BEGIN:VCALENDAR
VERSION:2.0
PRODID:-//KDY LTD - Agence web, E-commerce &amp; SEO Ile Maurice - ECPv6.5.0//NONSGML v1.0//EN
CALSCALE:GREGORIAN
METHOD:PUBLISH
X-WR-CALNAME:KDY LTD - Agence web, E-commerce &amp; SEO Ile Maurice
X-ORIGINAL-URL:https://kdyltd.com
X-WR-CALDESC:évènements pour KDY LTD - Agence web, E-commerce &amp; SEO Ile Maurice
REFRESH-INTERVAL;VALUE=DURATION:PT1H
X-Robots-Tag:noindex
X-PUBLISHED-TTL:PT1H
BEGIN:VTIMEZONE
TZID:Europe/Paris
BEGIN:DAYLIGHT
TZOFFSETFROM:+0100
TZOFFSETTO:+0200
TZNAME:CEST
DTSTART:20240331T010000
END:DAYLIGHT
BEGIN:STANDARD
TZOFFSETFROM:+0200
TZOFFSETTO:+0100
TZNAME:CET
DTSTART:20241027T010000
END:STANDARD
END:VTIMEZONE
BEGIN:VEVENT
DTSTART;TZID=Europe/Paris:20240604T090000
DTEND;TZID=Europe/Paris:20240731T150000
DTSTAMP:20260424T014711
CREATED:20240604T044806Z
LAST-MODIFIED:20240604T052645Z
UID:1458-1717491600-1722438000@kdyltd.com
SUMMARY:Atelier WordPress - Création site web en 1 jour : Rs 15 500
DESCRIPTION:Soyez autonome \, prenez de l’avance en ayant le contrôle de votre site internet WordPress de A à Z. \nDu nom de domaine\, à l’hébergement soyez le seul propriétaire. \nProgramme de cet Atelier – Création site web WordPress à l’ile Maurice: \n\nAvant de réserver votre nom de domaine pour votre marque\, il est important de définir votre cible en amont afin de réserver un nom de domaine adéquat liant votre marque et un mot clé\nApprendre à réserver un nom de domaine et hébergement sur votre nom sans être dépendant d’un prestataire de service.\nInstallation et configuration de votre site internet WordPress\nInstallation\, configuration et personnalisation d’un thème graphique adapté à votre charte graphique ( logo et couleur )\nAide à la rédaction web pour votre cible à travers différents personna avec la map d’empathie\nCréation de 5 pages optimisées pour le SEO afin que vous attirez vos prospects et vos clients\nFormation du Back-office pour être autonome\nPages illimitées en DIY\n\nPour qui ? \n\nPour toute personne souhaitant créer son site internet sous WordPress et apprendre à se connaitre grâce à son site internet.\nPrésentiel : En groupe de 4 personnes dans nos locaux ou dans le vôtre.\nEn ligne : Individuel\n\nInscrivez- vous dès maintenant pour cet atelier de WordPress et précisez si vous souhaitez à distance ou en présentiel. Nous Contacter : +230 5726 20 40 \nSoyez autonome \, apprenez à créer votre site internet sous WordPress – No Code lors de cet atelier
URL:https://kdyltd.com/event/formation-site-web-wordpress-maurice/
LOCATION:KDY – Grand Gaube\, Jhon Keneddy Road\, Grand Gaube
CATEGORIES:Atelier WordPress No code,Formation site web WordPress
ORGANIZER;CN="Tedia VERPLANCKE":MAILTO:projet@kdyltd.com
END:VEVENT
END:VCALENDAR