BEGIN:VCALENDAR
VERSION:2.0
PRODID:-//KDY LTD - Agence web, E-commerce &amp; SEO Ile Maurice - ECPv6.5.0//NONSGML v1.0//EN
CALSCALE:GREGORIAN
METHOD:PUBLISH
X-WR-CALNAME:KDY LTD - Agence web, E-commerce &amp; SEO Ile Maurice
X-ORIGINAL-URL:https://kdyltd.com
X-WR-CALDESC:évènements pour KDY LTD - Agence web, E-commerce &amp; SEO Ile Maurice
REFRESH-INTERVAL;VALUE=DURATION:PT1H
X-Robots-Tag:noindex
X-PUBLISHED-TTL:PT1H
BEGIN:VTIMEZONE
TZID:Europe/Paris
BEGIN:DAYLIGHT
TZOFFSETFROM:+0100
TZOFFSETTO:+0200
TZNAME:CEST
DTSTART:20240331T010000
END:DAYLIGHT
BEGIN:STANDARD
TZOFFSETFROM:+0200
TZOFFSETTO:+0100
TZNAME:CET
DTSTART:20241027T010000
END:STANDARD
END:VTIMEZONE
BEGIN:VEVENT
DTSTART;TZID=Europe/Paris:20240604T090000
DTEND;TZID=Europe/Paris:20240731T150000
DTSTAMP:20260421T183312
CREATED:20240604T044806Z
LAST-MODIFIED:20240604T052645Z
UID:1458-1717491600-1722438000@kdyltd.com
SUMMARY:Atelier WordPress - Création site web en 1 jour : Rs 15 500
DESCRIPTION:Soyez autonome \, prenez de l’avance en ayant le contrôle de votre site internet WordPress de A à Z. \nDu nom de domaine\, à l’hébergement soyez le seul propriétaire. \nProgramme de cet Atelier – Création site web WordPress à l’ile Maurice: \n\nAvant de réserver votre nom de domaine pour votre marque\, il est important de définir votre cible en amont afin de réserver un nom de domaine adéquat liant votre marque et un mot clé\nApprendre à réserver un nom de domaine et hébergement sur votre nom sans être dépendant d’un prestataire de service.\nInstallation et configuration de votre site internet WordPress\nInstallation\, configuration et personnalisation d’un thème graphique adapté à votre charte graphique ( logo et couleur )\nAide à la rédaction web pour votre cible à travers différents personna avec la map d’empathie\nCréation de 5 pages optimisées pour le SEO afin que vous attirez vos prospects et vos clients\nFormation du Back-office pour être autonome\nPages illimitées en DIY\n\nPour qui ? \n\nPour toute personne souhaitant créer son site internet sous WordPress et apprendre à se connaitre grâce à son site internet.\nPrésentiel : En groupe de 4 personnes dans nos locaux ou dans le vôtre.\nEn ligne : Individuel\n\nInscrivez- vous dès maintenant pour cet atelier de WordPress et précisez si vous souhaitez à distance ou en présentiel. Nous Contacter : +230 5726 20 40 \nSoyez autonome \, apprenez à créer votre site internet sous WordPress – No Code lors de cet atelier
URL:https://kdyltd.com/event/formation-site-web-wordpress-maurice/
LOCATION:KDY – Grand Gaube\, Jhon Keneddy Road\, Grand Gaube
CATEGORIES:Atelier WordPress No code,Formation site web WordPress
ORGANIZER;CN="Tedia VERPLANCKE":MAILTO:projet@kdyltd.com
END:VEVENT
BEGIN:VEVENT
DTSTART;VALUE=DATE:20240515
DTEND;VALUE=DATE:20240701
DTSTAMP:20260421T183312
CREATED:20240515T090945Z
LAST-MODIFIED:20240604T053103Z
UID:1315-1715731200-1719791999@kdyltd.com
SUMMARY:Atelier Création site internet No Code - WordPress : Rs 15 500
DESCRIPTION:Osez être différent en créant un site internet qui captive les besoins de vos clients et non pour vous le commanditaire du site web. \nCréation site web no code WordPress pas cher Maurice\nQue je m’explique \, certes c’est vous qui avancez les frais pour apprendre à créer votre site internet no code sous WordPress ( Le commanditaire ) et pour cela copier coller votre brochure sur votre site internet ne sera pas accepté chez KDY . \nChez KDY LTD\, l’agence web qui vous accompagne de A à Z pour vous apprendre à créer des sites internet qui vous ramènent des ventes et pour cela en amont tout est mis à plat pour définir votre stratégie de marketing et de communication web. \nGroupe de  4- 6 personnes pour la formation création site internet WordPress. \nLors de cet atelier de création de site internet No code sous Wordress\, vous apprendrez : \n\nà définir votre cible\nà analyser vos concurrents\nà mettre en valeur votre différence et les valeurs ajoutées de vos produits et services.\n à bien rédiger pour votre cible en mettant en avant vos atouts pour les séduire.\nà choisir votre nom de domaine et hébergement web\nà installer votre site web \, des plugins adaptés à vos besoins et à les configurer.\nà bien optimiser pour votre visibilité pour le SEO\nà faire les sauvegardes de votre site internet\n\nCet atelier de création de site internet WordPress no code vous intéresse\, réservez votre place dès maintenant.
URL:https://kdyltd.com/event/atelier-creation-site-internet-no-code-wordpress/
CATEGORIES:Atelier WordPress No code,Formation site web WordPress
ORGANIZER;CN="Tedia VERPLANCKE":MAILTO:projet@kdyltd.com
END:VEVENT
BEGIN:VEVENT
DTSTART;VALUE=DATE:20240515
DTEND;VALUE=DATE:20240629
DTSTAMP:20260421T183312
CREATED:20240516T050921Z
LAST-MODIFIED:20240516T061356Z
UID:1330-1715731200-1719619199@kdyltd.com
SUMMARY:Rédaction web pour sa cible
DESCRIPTION:Apprendre à bien rédiger pour sa cible est devenue capital si vous souhaitez attirer vos internautes et les convertir en clients selon leur demande lors d’une recherche sur les moteurs de recherche. \nDurée de cet atelier : 1 journée  ( de 9h00 – 15h00) \nEn Groupe : 4 – 6 personnes \nPrix : Rs 6000 \nPour qui : \n\nPour toute personne qui a déjà un site web et qui cherche à améliorer sa visibilité sur les moteurs de recherches pour atteindre sa cible et les convertir en client\nPour toute personne qui va créer un site internet pour son entreprise afin d’avoir une empreinte numérique et répondre aux besoins des internautes ciblés\n\nObjectif de cet atelier : \n\nAcquérir les compétences nécessaires pour rédiger du contenu web de qualité\, optimisé pour les moteurs de recherche et adapté aux différents supports numériques pour sa cible.\nAméliorer sa visibilité sur les moteurs de recherches\n\nAvant d’apprendre à rédiger pour la communication web \, en amont\, nous verrons ensemble lors de cet atelier pour : \n\nDéfinir votre cible\nDès que la cible est définie\, nous allons la segmenter en différents profils à travers des personas jonglant avec la carte d’empathie pour mieux comprendre comment votre produit ou service répond à chaque besoin correspondant au profil.\nApprendre la structuration du contenu pour bien rédiger du contenu web de qualité qui attire les visiteurs et génère des conversions pour votre entreprise.\nRecherche des mots clés en utilisant des outils gratuits\nIntégration des mots clés dans le contenu de manière naturelle.\n\nCas Pratique pour votre propre entreprise et site web. \nCet atelier de rédaction web vous intéresse\, inscrivez vous dès maintenant.
URL:https://kdyltd.com/event/redaction-web-pour-sa-cible/
ORGANIZER;CN="Tedia VERPLANCKE":MAILTO:projet@kdyltd.com
END:VEVENT
BEGIN:VEVENT
DTSTART;VALUE=DATE:20240506
DTEND;VALUE=DATE:20240601
DTSTAMP:20260421T183312
CREATED:20240508T063310Z
LAST-MODIFIED:20240523T093458Z
UID:1037-1714953600-1717199999@kdyltd.com
SUMMARY:Création site web no code WordPress en 1j
DESCRIPTION:Apprenez à créer votre site web en 2 jours seulement lors de cet atelier ( Atelier en groupe de 6 personnes ). \nNombre de participants : 4 – 6 personnes \nDate : Du 16 mai à 31 mai 2024 ( Choisissez la date de votre atelier qui vous convient ) \nPrix : Rs 12 500 \n  \nPre-requis : \n\nLaptop\nNom de domaine et Hébergement ( Si vous ne l’avez pas encore\, pas de panique\, contactez nous)\nChoisissez votre date d’atelier\n\nCet atelier de création de site web no WordPress en 1 jour vous intéresse\, contactez nous dès maintenant
URL:https://kdyltd.com/event/creation-site-web-no-code-wordpress-en-1j/
CATEGORIES:Formation site web WordPress
ATTACH;FMTTYPE=image/png:https://kdyltd.com/wp-content/uploads/2023/11/portfolio3.png
ORGANIZER;CN="Tedia VERPLANCKE":MAILTO:projet@kdyltd.com
END:VEVENT
END:VCALENDAR